BEGIN:VCALENDAR
VERSION:2.0
PRODID:-//wp-events-plugin.com//7.2.3.1//EN
TZID:America/New_York
X-WR-TIMEZONE:America/New_York
BEGIN:VEVENT
UID:1485@oakridgebirdman.com
DTSTART;TZID=America/New_York:20261031T080000
DTEND;TZID=America/New_York:20261031T120000
DTSTAMP:20260331T205908Z
URL:https://www.oakridgebirdman.com/events/jackson-square-farmers-market-3
 -2026-04-04-2026-04-11-2026-04-18-2026-04-25-2026-05-02-2026-05-09-2026-05
 -16-2026-05-23-2026-05-30-2026-06-06-2026-06-13-2026-06-20-2026-06-27-2026
 -07-04-24-2026-10-31/
SUMMARY:Jackson Square Farmers Market
DESCRIPTION:
LOCATION:Jackson Square Farmers Market\, Jackson Square Oak Ridge\, Oak Rid
 ge\, Tennessee\, 37830\, United States
X-APPLE-STRUCTURED-LOCATION;VALUE=URI;X-ADDRESS=Jackson Square Oak Ridge\, 
 Oak Ridge\, Tennessee\, 37830\, United States;X-APPLE-RADIUS=100;X-TITLE=J
 ackson Square Farmers Market:geo:0,0
END:VEVENT
BEGIN:VTIMEZONE
TZID:America/New_York
X-LIC-LOCATION:America/New_York
BEGIN:DAYLIGHT
DTSTART:20260308T030000
TZOFFSETFROM:-0500
TZOFFSETTO:-0400
TZNAME:EDT
END:DAYLIGHT
END:VTIMEZONE
END:VCALENDAR