BEGIN:VCALENDAR
VERSION:2.0
PRODID:-//wp-events-plugin.com//7.2.3.1//EN
TZID:America/New_York
X-WR-TIMEZONE:America/New_York
BEGIN:VEVENT
UID:1446@oakridgebirdman.com
DTSTART;TZID=America/New_York;VALUE=DATE:20260423
DTEND;TZID=America/New_York;VALUE=DATE:20260424
DTSTAMP:20251113T234248Z
URL:https://www.oakridgebirdman.com/events/knoxfill-biweekly-supply-drop-2
 026-04-23/
SUMMARY:KnoxFill biweekly supply drop
DESCRIPTION:Want the best bird supplies in town but don't have time to driv
 e to one of our regular markets? There's an easy fix!\n\nEvery other Thurs
 day we make the trek from Oak Ridge to South Knox to drop off supplies at 
 KnoxFill. If you want in\, simply visit our online store\, put as much or 
 as little as you want in your cart\, and write "KnoxFill" and the date you
  want to pick up in the comments section - we'll have it there by COB and 
 with no delivery fee!\n\nPlease allow us two days to process your request 
 - submit your order by 11:59 pm the preceding Monday.
LOCATION:KnoxFill\, 6204 Chapman Highway\, Knoxville\, TN\, 37920\, United 
 States
X-APPLE-STRUCTURED-LOCATION;VALUE=URI;X-ADDRESS=6204 Chapman Highway\, Knox
 ville\, TN\, 37920\, United States;X-APPLE-RADIUS=100;X-TITLE=KnoxFill:geo
 :0,0
END:VEVENT
BEGIN:VTIMEZONE
TZID:America/New_York
X-LIC-LOCATION:America/New_York
BEGIN:DAYLIGHT
DTSTART:20260308T030000
TZOFFSETFROM:-0500
TZOFFSETTO:-0400
TZNAME:EDT
END:DAYLIGHT
END:VTIMEZONE
END:VCALENDAR