BEGIN:VCALENDAR
VERSION:2.0
PRODID:-//wp-events-plugin.com//7.2.3.1//EN
TZID:America/New_York
X-WR-TIMEZONE:America/New_York
BEGIN:VEVENT
UID:1516@oakridgebirdman.com
DTSTART;TZID=America/New_York:20261024T090000
DTEND;TZID=America/New_York:20261024T130000
DTSTAMP:20260416T121605Z
URL:https://www.oakridgebirdman.com/events/market-square-farmers-market-2-
 2026-05-09-2026-05-16-2026-05-23-2026-05-30-2026-06-06-2026-06-13-2026-06-
 20-2026-06-27-2026-07-04-2026-07-11-2026-07-18-2026-07-25-2026-08-01-2026-
 08-08-2-17-2026-10-24/
SUMMARY:Market Square Farmers Market
DESCRIPTION:
LOCATION:Market Square\, Market Square\, Knoxville\, United States
X-APPLE-STRUCTURED-LOCATION;VALUE=URI;X-ADDRESS=Market Square\, Knoxville\,
  United States;X-APPLE-RADIUS=100;X-TITLE=Market Square:geo:0,0
END:VEVENT
BEGIN:VTIMEZONE
TZID:America/New_York
X-LIC-LOCATION:America/New_York
BEGIN:DAYLIGHT
DTSTART:20260308T030000
TZOFFSETFROM:-0500
TZOFFSETTO:-0400
TZNAME:EDT
END:DAYLIGHT
END:VTIMEZONE
END:VCALENDAR