BEGIN:VCALENDAR
VERSION:2.0
PRODID:-//wp-events-plugin.com//7.2.3.1//EN
TZID:America/New_York
X-WR-TIMEZONE:America/New_York
BEGIN:VEVENT
UID:1492@oakridgebirdman.com
DTSTART;TZID=America/New_York:20260509T090000
DTEND;TZID=America/New_York:20260509T130000
DTSTAMP:20260416T121605Z
URL:https://www.oakridgebirdman.com/events/market-square-farmers-market-2-
 2026-05-09/
SUMMARY:Market Square Farmers Market
DESCRIPTION:
LOCATION:Market Square\, Market Square\, Knoxville\, United States
X-APPLE-STRUCTURED-LOCATION;VALUE=URI;X-ADDRESS=Market Square\, Knoxville\,
  United States;X-APPLE-RADIUS=100;X-TITLE=Market Square:geo:0,0
END:VEVENT
BEGIN:VTIMEZONE
TZID:America/New_York
X-LIC-LOCATION:America/New_York
BEGIN:DAYLIGHT
DTSTART:20260308T030000
TZOFFSETFROM:-0500
TZOFFSETTO:-0400
TZNAME:EDT
END:DAYLIGHT
END:VTIMEZONE
END:VCALENDAR