BEGIN:VCALENDAR
VERSION:2.0
PRODID:-//wp-events-plugin.com//7.2.3.1//EN
TZID:America/New_York
X-WR-TIMEZONE:America/New_York
BEGIN:VEVENT
UID:1490@oakridgebirdman.com
DTSTART;TZID=America/New_York:20260425T100000
DTEND;TZID=America/New_York:20260425T150000
DTSTAMP:20260416T121356Z
URL:https://www.oakridgebirdman.com/events/paws-for-a-cause-pet-expo/
SUMMARY:Paws for a Cause Pet Expo
DESCRIPTION:
LOCATION:Carden Farm Dog Park\, 401 Riverview Dr\, Clinton \, Tennessee\, 3
 7716\, United States
X-APPLE-STRUCTURED-LOCATION;VALUE=URI;X-ADDRESS=401 Riverview Dr\, Clinton 
 \, Tennessee\, 37716\, United States;X-APPLE-RADIUS=100;X-TITLE=Carden Far
 m Dog Park:geo:0,0
END:VEVENT
BEGIN:VTIMEZONE
TZID:America/New_York
X-LIC-LOCATION:America/New_York
BEGIN:DAYLIGHT
DTSTART:20260308T030000
TZOFFSETFROM:-0500
TZOFFSETTO:-0400
TZNAME:EDT
END:DAYLIGHT
END:VTIMEZONE
END:VCALENDAR